BEGIN:VCALENDAR
VERSION:2.0
PRODID:-//Fellowship of American Bibliophilic Societies - ECPv6.15.20//NONSGML v1.0//EN
CALSCALE:GREGORIAN
METHOD:PUBLISH
X-WR-CALNAME:Fellowship of American Bibliophilic Societies
X-ORIGINAL-URL:http://www.fabsocieties.org
X-WR-CALDESC:Events for Fellowship of American Bibliophilic Societies
REFRESH-INTERVAL;VALUE=DURATION:PT1H
X-Robots-Tag:noindex
X-PUBLISHED-TTL:PT1H
BEGIN:VTIMEZONE
TZID:America/New_York
BEGIN:DAYLIGHT
TZOFFSETFROM:-0500
TZOFFSETTO:-0400
TZNAME:EDT
DTSTART:20250309T070000
END:DAYLIGHT
BEGIN:STANDARD
TZOFFSETFROM:-0400
TZOFFSETTO:-0500
TZNAME:EST
DTSTART:20251102T060000
END:STANDARD
BEGIN:DAYLIGHT
TZOFFSETFROM:-0500
TZOFFSETTO:-0400
TZNAME:EDT
DTSTART:20260308T070000
END:DAYLIGHT
BEGIN:STANDARD
TZOFFSETFROM:-0400
TZOFFSETTO:-0500
TZNAME:EST
DTSTART:20261101T060000
END:STANDARD
BEGIN:DAYLIGHT
TZOFFSETFROM:-0500
TZOFFSETTO:-0400
TZNAME:EDT
DTSTART:20270314T070000
END:DAYLIGHT
BEGIN:STANDARD
TZOFFSETFROM:-0400
TZOFFSETTO:-0500
TZNAME:EST
DTSTART:20271107T060000
END:STANDARD
END:VTIMEZONE
BEGIN:VEVENT
DTSTART;TZID=America/New_York:20260226T183000
DTEND;TZID=America/New_York:20260226T183000
DTSTAMP:20260421T062851
CREATED:20260127T202306Z
LAST-MODIFIED:20260127T202352Z
UID:3099-1772130600-1772130600@www.fabsocieties.org
SUMMARY:Catenary Books: The Making of a Narrative Bookplate Series
DESCRIPTION:Sponsored by The Grolier Club \n\nWith Kristy Caldwell\n\n\n\nIllustrator Kristy Caldwell will share the process of creating Catenary Books\, a series of six narratively connected bookplates developed during her 2025 William H. Helfand Fellowship at the Grolier Club Library. \nKristy Caldwell is a New York-based illustrator and an assistant professor of illustration at Queens College\, CUNY. She has illustrated more than a dozen children’s books\, including Flowers for Sarajevo\, a 2017 New York Public Library Best Book for Kids\, and co-founded the experimental journal Carrier Pigeon: Illustrated Fiction and Fine Art. Previously\, she served as archivist at Castelli Gallery; recently\, she wrote an essay for the gallery remembering appropriation artist Richard Pettibone. Her illustration work often combines digital tools with eclectic art supplies such as vintage fountain pens\, conical nibs\, mouth atomizers\, and rainbow pencils. For more information: kristycaldwell.com \nRegister here: https://www.eventbrite.com/e/virtual-catenary-books-the-making-of-a-narrative-bookplate-series-tickets-1978020218721?aff=ebdsoporgprofile
URL:http://www.fabsocieties.org/event/catenary-books-the-making-of-a-narrative-bookplate-series/
END:VEVENT
END:VCALENDAR