BEGIN:VCALENDAR
VERSION:2.0
PRODID:-//Fellowship of American Bibliophilic Societies - ECPv6.15.20//NONSGML v1.0//EN
CALSCALE:GREGORIAN
METHOD:PUBLISH
X-WR-CALNAME:Fellowship of American Bibliophilic Societies
X-ORIGINAL-URL:http://www.fabsocieties.org
X-WR-CALDESC:Events for Fellowship of American Bibliophilic Societies
REFRESH-INTERVAL;VALUE=DURATION:PT1H
X-Robots-Tag:noindex
X-PUBLISHED-TTL:PT1H
BEGIN:VTIMEZONE
TZID:America/Los_Angeles
BEGIN:DAYLIGHT
TZOFFSETFROM:-0800
TZOFFSETTO:-0700
TZNAME:PDT
DTSTART:20250309T100000
END:DAYLIGHT
BEGIN:STANDARD
TZOFFSETFROM:-0700
TZOFFSETTO:-0800
TZNAME:PST
DTSTART:20251102T090000
END:STANDARD
BEGIN:DAYLIGHT
TZOFFSETFROM:-0800
TZOFFSETTO:-0700
TZNAME:PDT
DTSTART:20260308T100000
END:DAYLIGHT
BEGIN:STANDARD
TZOFFSETFROM:-0700
TZOFFSETTO:-0800
TZNAME:PST
DTSTART:20261101T090000
END:STANDARD
BEGIN:DAYLIGHT
TZOFFSETFROM:-0800
TZOFFSETTO:-0700
TZNAME:PDT
DTSTART:20270314T100000
END:DAYLIGHT
BEGIN:STANDARD
TZOFFSETFROM:-0700
TZOFFSETTO:-0800
TZNAME:PST
DTSTART:20271107T090000
END:STANDARD
END:VTIMEZONE
BEGIN:VEVENT
DTSTART;TZID=America/Los_Angeles:20260426T140000
DTEND;TZID=America/Los_Angeles:20260426T153000
DTSTAMP:20260420T192127
CREATED:20260324T023113Z
LAST-MODIFIED:20260327T151837Z
UID:3170-1777212000-1777217400@www.fabsocieties.org
SUMMARY:Ranger of the Lost Art - Rediscovering the WPA Poster Art of our National Parks
DESCRIPTION:Sponsored by The Book Club of Washington \nDoug Leen is a retired dentist and seasonal park ranger. He started his company\, Ranger Doug’s Enterprises in 1993\, with a goal of bringing back into print the striking posters created by the WPA in the 1930s and 40s. \nWatch the Book Club of Washington events page for an opportunity to register for the online portion of this event.
URL:http://www.fabsocieties.org/event/ranger-of-the-lost-art-rediscovering-the-wpa-poster-art-of-our-national-parks/
CATEGORIES:Book Club of Washington
END:VEVENT
END:VCALENDAR