BEGIN:VCALENDAR
VERSION:2.0
PRODID:-//Fellowship of American Bibliophilic Societies - ECPv6.15.20//NONSGML v1.0//EN
CALSCALE:GREGORIAN
METHOD:PUBLISH
X-ORIGINAL-URL:http://www.fabsocieties.org
X-WR-CALDESC:Events for Fellowship of American Bibliophilic Societies
REFRESH-INTERVAL;VALUE=DURATION:PT1H
X-Robots-Tag:noindex
X-PUBLISHED-TTL:PT1H
BEGIN:VTIMEZONE
TZID:America/Chicago
BEGIN:DAYLIGHT
TZOFFSETFROM:-0600
TZOFFSETTO:-0500
TZNAME:CDT
DTSTART:20250309T080000
END:DAYLIGHT
BEGIN:STANDARD
TZOFFSETFROM:-0500
TZOFFSETTO:-0600
TZNAME:CST
DTSTART:20251102T070000
END:STANDARD
BEGIN:DAYLIGHT
TZOFFSETFROM:-0600
TZOFFSETTO:-0500
TZNAME:CDT
DTSTART:20260308T080000
END:DAYLIGHT
BEGIN:STANDARD
TZOFFSETFROM:-0500
TZOFFSETTO:-0600
TZNAME:CST
DTSTART:20261101T070000
END:STANDARD
BEGIN:DAYLIGHT
TZOFFSETFROM:-0600
TZOFFSETTO:-0500
TZNAME:CDT
DTSTART:20270314T080000
END:DAYLIGHT
BEGIN:STANDARD
TZOFFSETFROM:-0500
TZOFFSETTO:-0600
TZNAME:CST
DTSTART:20271107T070000
END:STANDARD
END:VTIMEZONE
BEGIN:VEVENT
DTSTART;TZID=America/Chicago:20260218T183000
DTEND;TZID=America/Chicago:20260218T193000
DTSTAMP:20260420T133733
CREATED:20260106T004956Z
LAST-MODIFIED:20260106T004956Z
UID:3074-1771439400-1771443000@www.fabsocieties.org
SUMMARY:Edward Potten and Elizabeth Savage on Carbon-dating “Medieval” Woodblocks: A New Approach to the History of Book Collecting
DESCRIPTION:Sponsored by The Caxton Club. \nFebruary Evening Program \n \nIn this program\, Ed Potten and Elizabeth Savage will introduce Caxton Club members to an entirely new way of understanding woodblocks: as blocks of wood\, which are organic materials that can be carbon-dated. The talk will introduce carbon-dating in book collector-friendly terms\, survey our proof-of-concept project to carbon-date dubiously “medieval” and “early modern” woodblocks\, and explore new evidence that they are instead antiquarian inventions. They are not fakes\, intended to deceive. Instead\, they shed light on a long-forgotten way that early book collectors explored and honored print heritage by commissioning new “old” woodblocks. \nEdward Potten has published widely on book and library history\, with a particular focus on the fifteenth century. He was formerly Keeper of Printed Books at the John Rylands Library\, and Head of Rare Books\, Joint Head of Special Collections\, and Associate Director\, Special Collections and External Relations\, at Cambridge University Library. He is currently the Principal Consultant on an AHRC/DFG Project\, a collaboration between the University of Manchester\, Johannes Gutenberg University\, Mainz\, and the University of Erlangen. \nDr. Elizabeth Savage FSA FRHistS is Senior Lecturer in Book History and Communications\, School of Advanced Study\, and Head of Academic Research Engagement\, Senate House Library\, University of London. Her books include Early Colour Printing: German Renaissance Woodcuts at the British Museum\, Printing Colour 1400–1700\, and Printing Colour 1700–1830. She curates and contributes to exhibitions about print heritage\, and has convened book history courses. \nTo register\, click here.
URL:http://www.fabsocieties.org/event/edward-potten-and-elizabeth-savage-on-carbon-dating-medieval-woodblocks-a-new-approach-to-the-history-of-book-collecting/
CATEGORIES:Caxton Club
END:VEVENT
END:VCALENDAR