BEGIN:VCALENDAR
VERSION:2.0
PRODID:-//Fellowship of American Bibliophilic Societies - ECPv6.15.20//NONSGML v1.0//EN
CALSCALE:GREGORIAN
METHOD:PUBLISH
X-WR-CALNAME:Fellowship of American Bibliophilic Societies
X-ORIGINAL-URL:http://www.fabsocieties.org
X-WR-CALDESC:Events for Fellowship of American Bibliophilic Societies
REFRESH-INTERVAL;VALUE=DURATION:PT1H
X-Robots-Tag:noindex
X-PUBLISHED-TTL:PT1H
BEGIN:VTIMEZONE
TZID:America/New_York
BEGIN:DAYLIGHT
TZOFFSETFROM:-0500
TZOFFSETTO:-0400
TZNAME:EDT
DTSTART:20250309T070000
END:DAYLIGHT
BEGIN:STANDARD
TZOFFSETFROM:-0400
TZOFFSETTO:-0500
TZNAME:EST
DTSTART:20251102T060000
END:STANDARD
BEGIN:DAYLIGHT
TZOFFSETFROM:-0500
TZOFFSETTO:-0400
TZNAME:EDT
DTSTART:20260308T070000
END:DAYLIGHT
BEGIN:STANDARD
TZOFFSETFROM:-0400
TZOFFSETTO:-0500
TZNAME:EST
DTSTART:20261101T060000
END:STANDARD
BEGIN:DAYLIGHT
TZOFFSETFROM:-0500
TZOFFSETTO:-0400
TZNAME:EDT
DTSTART:20270314T070000
END:DAYLIGHT
BEGIN:STANDARD
TZOFFSETFROM:-0400
TZOFFSETTO:-0500
TZNAME:EST
DTSTART:20271107T060000
END:STANDARD
END:VTIMEZONE
BEGIN:VEVENT
DTSTART;TZID=America/New_York:20260211T180000
DTEND;TZID=America/New_York:20260211T190000
DTSTAMP:20260422T071424
CREATED:20260127T201424Z
LAST-MODIFIED:20260127T201424Z
UID:3094-1770832800-1770836400@www.fabsocieties.org
SUMMARY:RGME Symposium at The Grolier Club: Transformations and Renewals
DESCRIPTION:Sponsored by The Research Group for Manuscript Evidence and The Grolier Club \n\nWith Mildred Budny\, Beppy Owen\, John T. McQuillen\, Reid Byers\, Richard Kopley\, Mark Samuels Lasner\, and Mary Crawford\n\n\n\nFriends of the Research Group on Manuscript Evidence\, a Princeton-based 501(c)(3) educational organization\, will visit the Grolier Club for an in-person/hybrid ‘Roundtable’. In lightning talks\, several Club members will discuss a curated selection of books\, manuscripts\, and prints on the RGME’s 2026 organizational theme of “Transformations and Renewals.” Open to the public\, this event will be live-streamed and will offer book-signings for Club member guides who have recently published works discussed. \nRegister here: https://www.eventbrite.com/e/virtual-transformations-and-renewals-tickets-1978004310138?aff=ebdsoporgprofile
URL:http://www.fabsocieties.org/event/rgme-symposium-at-the-grolier-club-transformations-and-renewals/
END:VEVENT
END:VCALENDAR