BEGIN:VCALENDAR
VERSION:2.0
PRODID:-//Fellowship of American Bibliophilic Societies - ECPv6.15.20//NONSGML v1.0//EN
CALSCALE:GREGORIAN
METHOD:PUBLISH
X-WR-CALNAME:Fellowship of American Bibliophilic Societies
X-ORIGINAL-URL:https://www.fabsocieties.org
X-WR-CALDESC:Events for Fellowship of American Bibliophilic Societies
REFRESH-INTERVAL;VALUE=DURATION:PT1H
X-Robots-Tag:noindex
X-PUBLISHED-TTL:PT1H
BEGIN:VTIMEZONE
TZID:America/New_York
BEGIN:DAYLIGHT
TZOFFSETFROM:-0500
TZOFFSETTO:-0400
TZNAME:EDT
DTSTART:20250309T070000
END:DAYLIGHT
BEGIN:STANDARD
TZOFFSETFROM:-0400
TZOFFSETTO:-0500
TZNAME:EST
DTSTART:20251102T060000
END:STANDARD
BEGIN:DAYLIGHT
TZOFFSETFROM:-0500
TZOFFSETTO:-0400
TZNAME:EDT
DTSTART:20260308T070000
END:DAYLIGHT
BEGIN:STANDARD
TZOFFSETFROM:-0400
TZOFFSETTO:-0500
TZNAME:EST
DTSTART:20261101T060000
END:STANDARD
BEGIN:DAYLIGHT
TZOFFSETFROM:-0500
TZOFFSETTO:-0400
TZNAME:EDT
DTSTART:20270314T070000
END:DAYLIGHT
BEGIN:STANDARD
TZOFFSETFROM:-0400
TZOFFSETTO:-0500
TZNAME:EST
DTSTART:20271107T060000
END:STANDARD
END:VTIMEZONE
BEGIN:VEVENT
DTSTART;TZID=America/New_York:20260209T193000
DTEND;TZID=America/New_York:20260209T203000
DTSTAMP:20260420T054425
CREATED:20260127T204438Z
LAST-MODIFIED:20260127T204438Z
UID:3106-1770665400-1770669000@www.fabsocieties.org
SUMMARY:FABS Handpress Era: Martha Driver on Collecting Erasmus
DESCRIPTION:Sponsored by FABS \n“Collecting Erasmus”\nMartha will share a brief bio of the Dutch humanist Desiderius Erasmus (d. 1536) and provide short descriptions of several Erasmus volumes in her collection. These include the first edition of Erasmus’s In Novum Testamentum Annotationes (1542) which has been heavily censored by a very assiduous member of the counter-Reformation\, the Colloquies (printed by Charlotte Guillard\, 1519)\, the Adages (printed by Gryphius\, 1550)\, the Apophthegmatum (1641)\, and two editions of the Praise of Folly\, one in English (1668) and one in French (1728). Along the way\, she will discuss Erasmus’s friendships with powerful people\, not the least of whom were printers and the painter\, Hans Holbein the Younger\, who promoted the work of Erasmus and helped to make him famous.\n\nFor a link\, contact Jennifer Larson: info@fabsocieties.org\n\nMartha Westcott Driver is Distinguished Professor of English at Pace University in New York City and a Fellow of the Society of Antiquaries. A co-founder of the Early Book Society for the study of manuscripts and printing history\, she writes about illustration from manuscript to print and manuscript and book production. In addition to publishing some 80 articles in these areas\, she has edited thirty-two journals\, including the Journal of the Early Book Society. Her books include The Image in Print: Book Illustration in Late Medieval England (published by the British Library in 2001)\, An Index of Images in English MSS\, with Michael Orr (2007)\, Preaching the Word in Manuscript and Print in Late Medieval England: Essays in Honour of Susan Powell\, with Veronica O’Mara (2013)\, and John Gower in Manuscript and Early Printed Books\, edited with Derek Pearsall and Robert F. Yeager (2020). She chairs the Early Book Society (earlybooksociety.org) and serves on the executive committee and board of the American Patrons of the National Library and Galleries of Scotland (americanpatrons.org) as well as the visiting committee of the Morgan Library & Museum\, and the American Trust for the British Library (https://atbl.us/leadership/).
URL:https://www.fabsocieties.org/event/fabs-handpress-era-martha-driver-on-collecting-erasmus/
END:VEVENT
BEGIN:VEVENT
DTSTART;TZID=America/New_York:20260211T180000
DTEND;TZID=America/New_York:20260211T190000
DTSTAMP:20260420T054425
CREATED:20260127T201424Z
LAST-MODIFIED:20260127T201424Z
UID:3094-1770832800-1770836400@www.fabsocieties.org
SUMMARY:RGME Symposium at The Grolier Club: Transformations and Renewals
DESCRIPTION:Sponsored by The Research Group for Manuscript Evidence and The Grolier Club \n\nWith Mildred Budny\, Beppy Owen\, John T. McQuillen\, Reid Byers\, Richard Kopley\, Mark Samuels Lasner\, and Mary Crawford\n\n\n\nFriends of the Research Group on Manuscript Evidence\, a Princeton-based 501(c)(3) educational organization\, will visit the Grolier Club for an in-person/hybrid ‘Roundtable’. In lightning talks\, several Club members will discuss a curated selection of books\, manuscripts\, and prints on the RGME’s 2026 organizational theme of “Transformations and Renewals.” Open to the public\, this event will be live-streamed and will offer book-signings for Club member guides who have recently published works discussed. \nRegister here: https://www.eventbrite.com/e/virtual-transformations-and-renewals-tickets-1978004310138?aff=ebdsoporgprofile
URL:https://www.fabsocieties.org/event/rgme-symposium-at-the-grolier-club-transformations-and-renewals/
END:VEVENT
BEGIN:VEVENT
DTSTART;TZID=America/New_York:20260219T193000
DTEND;TZID=America/New_York:20260219T203000
DTSTAMP:20260420T054425
CREATED:20260127T204612Z
LAST-MODIFIED:20260127T204612Z
UID:3108-1771529400-1771533000@www.fabsocieties.org
SUMMARY:FABS 19th Century Zoom Group
DESCRIPTION:Sponsored by FABS \nJoin us for convivial conversation on all things bibliophilic and 19th century! \nFor a link contact Jennifer Larson: info@fabsocieties.org
URL:https://www.fabsocieties.org/event/fabs-19th-century-zoom-group-17/
END:VEVENT
BEGIN:VEVENT
DTSTART;TZID=America/New_York:20260224T190000
DTEND;TZID=America/New_York:20260224T203000
DTSTAMP:20260420T054425
CREATED:20260127T204750Z
LAST-MODIFIED:20260127T204750Z
UID:3110-1771959600-1771965000@www.fabsocieties.org
SUMMARY:FABS Living With Books Zoom Group
DESCRIPTION:Sponsored by FABS \nJoin your host Reid Byers and the gang for discussion of the pleasures and challenges of the private library. For a link\, contact Jennifer Larson: info@fabsocieties.org
URL:https://www.fabsocieties.org/event/fabs-living-with-books-zoom-group-9/
END:VEVENT
BEGIN:VEVENT
DTSTART;TZID=America/New_York:20260225T183000
DTEND;TZID=America/New_York:20260225T193000
DTSTAMP:20260420T054425
CREATED:20260221T160822Z
LAST-MODIFIED:20260221T160822Z
UID:3147-1772044200-1772047800@www.fabsocieties.org
SUMMARY:Mexico City's Avant-Garde Librería de Cristal Bookstore
DESCRIPTION:Sponsored by The Grolier Club \n\nWith Luis Fernando Bañuelos\n\n\n\nNYU doctoral student Luis Fernando Bañuelos will lecture on the Librería de Cristal\, Mexico’s first everything bookstore. In a long\, sinuous\, marble\, glass\, and steel building downtown\, plastered with billboards\, blinding neon letters mounted on the roof\, it offered leather-bound collections\, textbooks\, children’s literature\, pornographic paperbacks\, dictionaries\, literary magazines\, titles by popular romance authors and those of Alexander von Humboldt and John Steinbeck\, as well as coffee\, plus paintings by renowned artists. The enigmatic\, contradictory store was a monumental palace for Mexico’s lettered elites\, an extravagant attempt to bring mass commercial culture to print matter in a semi-illiterate country\, an attempt to democratize knowledge and culture by making them accessible to all social classes\, the remnant of an obsolete\, pre-industrial belletristic culture… The lecture will explore the store’s cultural history through publications\, films\, first-hand testimonies\, photographs\, and advertising. In a post-revolutionary\, developing country such as Mexico\, what happens to print culture in general\, and literature in particular\, what do they gain or lose\, when entangled with commercial culture? \nLuis Fernando Bañuelos is a Ph.D. candidate at the Department of Spanish and Portuguese at New York University. His research interests include print culture\, book history\, sociology of literature and publishing\, and the history of literary criticism. His dissertation explores Mexican literature from the 1920s to the 1970s in relation to the publishing industry’s rise. \n\n\n\n\nRegistration \nIf you are a Grolier Club member\, please register yourself and your guests via the Club website. Do not register via Eventbrite. \nSupport \nWe appreciate your interest in the Grolier Club’s programming on the art and history of the book. For over 130 years we have offered our exhibitions and lectures to the public\, free of charge. If you have enjoyed these offerings\, and would like to support that tradition\, and help ensure that it continues\, please consider making a tax-deductible donation to the Grolier Club.
URL:https://www.fabsocieties.org/event/mexico-citys-avant-garde-libreria-de-cristal-bookstore-2/
END:VEVENT
END:VCALENDAR