BEGIN:VCALENDAR
VERSION:2.0
PRODID:-//Fellowship of American Bibliophilic Societies - ECPv6.15.20//NONSGML v1.0//EN
CALSCALE:GREGORIAN
METHOD:PUBLISH
X-WR-CALNAME:Fellowship of American Bibliophilic Societies
X-ORIGINAL-URL:https://www.fabsocieties.org
X-WR-CALDESC:Events for Fellowship of American Bibliophilic Societies
REFRESH-INTERVAL;VALUE=DURATION:PT1H
X-Robots-Tag:noindex
X-PUBLISHED-TTL:PT1H
BEGIN:VTIMEZONE
TZID:America/New_York
BEGIN:DAYLIGHT
TZOFFSETFROM:-0500
TZOFFSETTO:-0400
TZNAME:EDT
DTSTART:20250309T070000
END:DAYLIGHT
BEGIN:STANDARD
TZOFFSETFROM:-0400
TZOFFSETTO:-0500
TZNAME:EST
DTSTART:20251102T060000
END:STANDARD
BEGIN:DAYLIGHT
TZOFFSETFROM:-0500
TZOFFSETTO:-0400
TZNAME:EDT
DTSTART:20260308T070000
END:DAYLIGHT
BEGIN:STANDARD
TZOFFSETFROM:-0400
TZOFFSETTO:-0500
TZNAME:EST
DTSTART:20261101T060000
END:STANDARD
BEGIN:DAYLIGHT
TZOFFSETFROM:-0500
TZOFFSETTO:-0400
TZNAME:EDT
DTSTART:20270314T070000
END:DAYLIGHT
BEGIN:STANDARD
TZOFFSETFROM:-0400
TZOFFSETTO:-0500
TZNAME:EST
DTSTART:20271107T060000
END:STANDARD
END:VTIMEZONE
BEGIN:VEVENT
DTSTART;TZID=America/New_York:20260324T190000
DTEND;TZID=America/New_York:20260324T203000
DTSTAMP:20260420T042701
CREATED:20260313T111348Z
LAST-MODIFIED:20260313T111348Z
UID:3167-1774378800-1774384200@www.fabsocieties.org
SUMMARY:FABS Living With Books: "Oops" Moments and Physical vs. Electronic Books
DESCRIPTION:Sponsored by FABS \nDear Friends in the Republic of Books\, \nLiving with Books is a discussion group of the Fellowship of American Bibliophilic Societies.\nEach month\, we choose a couple of bibliophilic topics for open (and civil) discussion. \nThe next meeting of FABS Living with Books will be on Tuesday\, Mar 24\, 7:00 EDT\nThe topics for discussion will be: \n1.Oops!\nMistakes we have made collecting or buying books.\nWhat were your best goofs? \n2. Electronic Reading vs. Physical Books\nWhich do you prefer? How do you balance? What helps? \nPlease join us if you think you might find such a discussions interesting. \nWith best regards\,\nReid \nFor a link please contact Jennifer Larson: info@fabsocieties.org \n 
URL:https://www.fabsocieties.org/event/fabs-living-with-books-oops-moments-and-physical-vs-electronic-books/
END:VEVENT
BEGIN:VEVENT
DTSTART;TZID=America/New_York:20260325T183000
DTEND;TZID=America/New_York:20260325T193000
DTSTAMP:20260420T042701
CREATED:20260127T202601Z
LAST-MODIFIED:20260127T202601Z
UID:3102-1774463400-1774467000@www.fabsocieties.org
SUMMARY:Mexico City's Avant-Garde Librería de Cristal Bookstore
DESCRIPTION:Sponsored by The Grolier Club \n\nWith Luis Fernando Bañuelos\n\n\n\nNYU doctoral student Luis Fernando Bañuelos will lecture on the Librería de Cristal\, Mexico’s first everything bookstore. In a long\, sinuous\, marble\, glass\, and steel building downtown\, plastered with billboards\, blinding neon letters mounted on the roof\, it offered leather-bound collections\, textbooks\, children’s literature\, pornographic paperbacks\, dictionaries\, literary magazines\, titles by popular romance authors and those of Alexander von Humboldt and John Steinbeck\, as well as coffee\, plus paintings by renowned artists. The enigmatic\, contradictory store was a monumental palace for Mexico’s lettered elites\, an extravagant attempt to bring mass commercial culture to print matter in a semi-illiterate country\, an attempt to democratize knowledge and culture by making them accessible to all social classes\, the remnant of an obsolete\, pre-industrial belletristic culture… The lecture will explore the store’s cultural history through publications\, films\, first-hand testimonies\, photographs\, and advertising. In a post-revolutionary\, developing country such as Mexico\, what happens to print culture in general\, and literature in particular\, what do they gain or lose\, when entangled with commercial culture? \nLuis Fernando Bañuelos is a Ph.D. candidate at the Department of Spanish and Portuguese at New York University. His research interests include print culture\, book history\, sociology of literature and publishing\, and the history of literary criticism. His dissertation explores Mexican literature from the 1920s to the 1970s in relation to the publishing industry’s rise. \nRegister here: https://www.eventbrite.com/e/virtual-lecture-mexico-citys-avant-garde-libreria-de-cristal-bookstore-tickets-1978438930098?aff=ebdsoporgprofile
URL:https://www.fabsocieties.org/event/mexico-citys-avant-garde-libreria-de-cristal-bookstore/
END:VEVENT
END:VCALENDAR